BEGIN:VCALENDAR
VERSION:2.0
PRODID:-//Abingdon Senior School - ECPv6.15.17.1//NONSGML v1.0//EN
CALSCALE:GREGORIAN
METHOD:PUBLISH
X-ORIGINAL-URL:https://www.abingdon.org.uk
X-WR-CALDESC:Events for Abingdon Senior School
REFRESH-INTERVAL;VALUE=DURATION:PT1H
X-Robots-Tag:noindex
X-PUBLISHED-TTL:PT1H
BEGIN:VTIMEZONE
TZID:Europe/London
BEGIN:DAYLIGHT
TZOFFSETFROM:+0000
TZOFFSETTO:+0100
TZNAME:BST
DTSTART:20250330T010000
END:DAYLIGHT
BEGIN:STANDARD
TZOFFSETFROM:+0100
TZOFFSETTO:+0000
TZNAME:GMT
DTSTART:20251026T010000
END:STANDARD
BEGIN:DAYLIGHT
TZOFFSETFROM:+0000
TZOFFSETTO:+0100
TZNAME:BST
DTSTART:20260329T010000
END:DAYLIGHT
BEGIN:STANDARD
TZOFFSETFROM:+0100
TZOFFSETTO:+0000
TZNAME:GMT
DTSTART:20261025T010000
END:STANDARD
BEGIN:DAYLIGHT
TZOFFSETFROM:+0000
TZOFFSETTO:+0100
TZNAME:BST
DTSTART:20270328T010000
END:DAYLIGHT
BEGIN:STANDARD
TZOFFSETFROM:+0100
TZOFFSETTO:+0000
TZNAME:GMT
DTSTART:20271031T010000
END:STANDARD
END:VTIMEZONE
BEGIN:VTIMEZONE
TZID:UTC
BEGIN:STANDARD
TZOFFSETFROM:+0000
TZOFFSETTO:+0000
TZNAME:UTC
DTSTART:20250101T000000
END:STANDARD
END:VTIMEZONE
BEGIN:VEVENT
DTSTART;TZID=Europe/London:20260221T140000
DTEND;TZID=Europe/London:20260221T163000
DTSTAMP:20260419T213648
CREATED:20251104T110801Z
LAST-MODIFIED:20251121T112828Z
UID:10003451-1771682400-1771691400@www.abingdon.org.uk
SUMMARY:DIY Theatre presents: Parade\, Performance II
DESCRIPTION:
URL:https://www.abingdon.org.uk/event/diy-theatre-presents-parade-performance-ii/
LOCATION:Amey Theatre\,MP11\,MP12
END:VEVENT
BEGIN:VEVENT
DTSTART;TZID=Europe/London:20260221T190000
DTEND;TZID=Europe/London:20260221T213000
DTSTAMP:20260419T213648
CREATED:20251104T110802Z
LAST-MODIFIED:20251121T112828Z
UID:10003452-1771700400-1771709400@www.abingdon.org.uk
SUMMARY:DIY Theatre presents: Parade\, Performance III
DESCRIPTION:
URL:https://www.abingdon.org.uk/event/diy-theatre-presents-parade-performance-iii/
LOCATION:Amey Theatre\,MP11\,MP12
END:VEVENT
BEGIN:VEVENT
DTSTART;VALUE=DATE:20260222
DTEND;VALUE=DATE:20260223
DTSTAMP:20260419T213648
CREATED:20251104T110803Z
LAST-MODIFIED:20251121T112828Z
UID:10003453-1771718400-1771804799@www.abingdon.org.uk
SUMMARY:Half term ends and boarders return (evening)
DESCRIPTION:
URL:https://www.abingdon.org.uk/event/half-term-ends-and-boarders-return-evening/
LOCATION:None
END:VEVENT
BEGIN:VEVENT
DTSTART;TZID=Europe/London:20260222T140000
DTEND;TZID=Europe/London:20260222T163000
DTSTAMP:20260419T213648
CREATED:20251104T110805Z
LAST-MODIFIED:20251121T112828Z
UID:10003454-1771768800-1771777800@www.abingdon.org.uk
SUMMARY:DIY Theatre presents: Parade\, Performance IV
DESCRIPTION:
URL:https://www.abingdon.org.uk/event/diy-theatre-presents-parade-performance-iv/
LOCATION:Amey Theatre\,MP11\,MP12
END:VEVENT
BEGIN:VEVENT
DTSTART;VALUE=DATE:20260223
DTEND;VALUE=DATE:20260228
DTSTAMP:20260419T213648
CREATED:20251104T110806Z
LAST-MODIFIED:20251121T112828Z
UID:10003455-1771804800-1772236799@www.abingdon.org.uk
SUMMARY:Week B
DESCRIPTION:
URL:https://www.abingdon.org.uk/event/week-b-7/
LOCATION:None
END:VEVENT
BEGIN:VEVENT
DTSTART;TZID=Europe/London:20260224T083000
DTEND;TZID=Europe/London:20260224T110000
DTSTAMP:20260419T213648
CREATED:20251104T110807Z
LAST-MODIFIED:20251121T112828Z
UID:10003456-1771921800-1771930800@www.abingdon.org.uk
SUMMARY:Onatti play at Oxford High
DESCRIPTION:
URL:https://www.abingdon.org.uk/event/onatti-play-at-oxford-high/
LOCATION:None
END:VEVENT
BEGIN:VEVENT
DTSTART;TZID=Europe/London:20260225T140000
DTEND;TZID=Europe/London:20260225T170000
DTSTAMP:20260419T213648
CREATED:20251104T110808Z
LAST-MODIFIED:20251121T112828Z
UID:10003457-1772028000-1772038800@www.abingdon.org.uk
SUMMARY:Hockey: Cranford School - U13 B/C (Home)
DESCRIPTION:
URL:https://www.abingdon.org.uk/event/hockey-cranford-school-u13-b-c-home/
LOCATION:Tilsley Park
END:VEVENT
BEGIN:VEVENT
DTSTART;TZID=Europe/London:20260225T144500
DTEND;TZID=Europe/London:20260225T174500
DTSTAMP:20260419T213648
CREATED:20251104T110809Z
LAST-MODIFIED:20251121T112828Z
UID:10003458-1772030700-1772041500@www.abingdon.org.uk
SUMMARY:Hockey: Cranford School - U13 A (Home)
DESCRIPTION:
URL:https://www.abingdon.org.uk/event/hockey-cranford-school-u13-a-home/
LOCATION:Tilsley Park
END:VEVENT
BEGIN:VEVENT
DTSTART;TZID=Europe/London:20260227T160000
DTEND;TZID=Europe/London:20260227T190000
DTSTAMP:20260419T213648
CREATED:20251104T110810Z
LAST-MODIFIED:20251121T112828Z
UID:10003459-1772208000-1772218800@www.abingdon.org.uk
SUMMARY:Hockey: Abingdon Preparatory School - U12 A/B\, U13 B/C (Home)
DESCRIPTION:
URL:https://www.abingdon.org.uk/event/hockey-abingdon-preparatory-school-u12-a-b-u13-b-c-home/
LOCATION:Tilsley Park
END:VEVENT
BEGIN:VEVENT
DTSTART;TZID=Europe/London:20260228T133000
DTEND;TZID=Europe/London:20260228T163000
DTSTAMP:20260419T213648
CREATED:20251108T112828Z
LAST-MODIFIED:20251121T112828Z
UID:10003709-1772285400-1772296200@www.abingdon.org.uk
SUMMARY:Hockey: Bradfield College - U16 A/B (Home)
DESCRIPTION:
URL:https://www.abingdon.org.uk/event/hockey-bradfield-college-u16-a-b-home/
LOCATION:None
END:VEVENT
BEGIN:VEVENT
DTSTART;TZID=Europe/London:20260228T133000
DTEND;TZID=Europe/London:20260228T163000
DTSTAMP:20260419T213648
CREATED:20251108T112828Z
LAST-MODIFIED:20251121T112828Z
UID:10003710-1772285400-1772296200@www.abingdon.org.uk
SUMMARY:Hockey: Bradfield College - U15 A/B/C (Away)
DESCRIPTION:
URL:https://www.abingdon.org.uk/event/hockey-bradfield-college-u15-a-b-c-away/
LOCATION:None
END:VEVENT
BEGIN:VEVENT
DTSTART;TZID=Europe/London:20260228T143000
DTEND;TZID=Europe/London:20260228T173000
DTSTAMP:20260419T213648
CREATED:20251108T112828Z
LAST-MODIFIED:20251121T112828Z
UID:10003711-1772289000-1772299800@www.abingdon.org.uk
SUMMARY:Hockey: Bradfield College - U13 A (Away)
DESCRIPTION:
URL:https://www.abingdon.org.uk/event/hockey-bradfield-college-u13-a-away/
LOCATION:None
END:VEVENT
BEGIN:VEVENT
DTSTART;TZID=Europe/London:20260228T144500
DTEND;TZID=Europe/London:20260228T174500
DTSTAMP:20260419T213648
CREATED:20251104T110811Z
LAST-MODIFIED:20251121T112828Z
UID:10003460-1772289900-1772300700@www.abingdon.org.uk
SUMMARY:Hockey: Bradfield College - U18 A/D (Away)
DESCRIPTION:
URL:https://www.abingdon.org.uk/event/hockey-bradfield-college-u13-a-u14-a-b-c-u15-a-b-c-u16-a-b-u18-a-b-c-away/
LOCATION:None
END:VEVENT
BEGIN:VEVENT
DTSTART;TZID=Europe/London:20260228T144500
DTEND;TZID=Europe/London:20260228T174500
DTSTAMP:20260419T213648
CREATED:20251108T112829Z
LAST-MODIFIED:20251121T112828Z
UID:10003712-1772289900-1772300700@www.abingdon.org.uk
SUMMARY:Hockey: Bradfield College - U14 C/D (Home)
DESCRIPTION:
URL:https://www.abingdon.org.uk/event/hockey-bradfield-college-u14-c-d-home/
LOCATION:None
END:VEVENT
BEGIN:VEVENT
DTSTART;TZID=Europe/London:20260228T160000
DTEND;TZID=Europe/London:20260228T190000
DTSTAMP:20260419T213648
CREATED:20251108T112829Z
LAST-MODIFIED:20251121T112828Z
UID:10003713-1772294400-1772305200@www.abingdon.org.uk
SUMMARY:Hockey: Bradfield College - U18 B/C (Away)
DESCRIPTION:
URL:https://www.abingdon.org.uk/event/hockey-bradfield-college-u18-b-c-away/
LOCATION:None
END:VEVENT
BEGIN:VEVENT
DTSTART;TZID=Europe/London:20260228T160000
DTEND;TZID=Europe/London:20260228T190000
DTSTAMP:20260419T213648
CREATED:20251108T112829Z
LAST-MODIFIED:20251121T112828Z
UID:10003714-1772294400-1772305200@www.abingdon.org.uk
SUMMARY:Hockey: Bradfield College - U14 A/B (Home)
DESCRIPTION:
URL:https://www.abingdon.org.uk/event/hockey-bradfield-college-u14-a-b-home/
LOCATION:None
END:VEVENT
BEGIN:VEVENT
DTSTART;TZID=Europe/London:20260228T193000
DTEND;TZID=Europe/London:20260228T223000
DTSTAMP:20260419T213648
CREATED:20251104T110812Z
LAST-MODIFIED:20251121T112828Z
UID:10003461-1772307000-1772317800@www.abingdon.org.uk
SUMMARY:Speakers from the Edge - Leo Houlding
DESCRIPTION:
URL:https://www.abingdon.org.uk/event/speakers-from-the-edge-leo-houlding/
LOCATION:Amey Theatre
END:VEVENT
BEGIN:VEVENT
DTSTART;VALUE=DATE:20260302
DTEND;VALUE=DATE:20260307
DTSTAMP:20260419T213648
CREATED:20251104T110813Z
LAST-MODIFIED:20251121T112828Z
UID:10003462-1772409600-1772841599@www.abingdon.org.uk
SUMMARY:Week A
DESCRIPTION:
URL:https://www.abingdon.org.uk/event/week-a-7/
LOCATION:None
END:VEVENT
BEGIN:VEVENT
DTSTART;TZID=Europe/London:20260302T173000
DTEND;TZID=Europe/London:20260302T194500
DTSTAMP:20260419T213648
CREATED:20251118T112829Z
LAST-MODIFIED:20251121T112828Z
UID:10003741-1772472600-1772480700@www.abingdon.org.uk
SUMMARY:Discover Abingdon - SF 2027
DESCRIPTION:
URL:https://www.abingdon.org.uk/event/discover-abingdon-sf-2027/
LOCATION:The Pavilion\,Sixth Form Centre – Open Plan Space
END:VEVENT
BEGIN:VEVENT
DTSTART;TZID=Europe/London:20260303T191500
DTEND;TZID=Europe/London:20260303T223000
DTSTAMP:20260419T213648
CREATED:20251104T110814Z
LAST-MODIFIED:20251121T112828Z
UID:10003463-1772565300-1772577000@www.abingdon.org.uk
SUMMARY:RBO Live: Giselle
DESCRIPTION:
URL:https://www.abingdon.org.uk/event/rbo-live-giselle/
LOCATION:Amey Theatre
END:VEVENT
BEGIN:VEVENT
DTSTART;TZID=Europe/London:20260304T143000
DTEND;TZID=Europe/London:20260304T173000
DTSTAMP:20260419T213648
CREATED:20251104T110815Z
LAST-MODIFIED:20251121T112828Z
UID:10003464-1772634600-1772645400@www.abingdon.org.uk
SUMMARY:Hockey: Cranford School - U12 A/C (Away)
DESCRIPTION:
URL:https://www.abingdon.org.uk/event/hockey-cranford-school-u12-a-c-away/
LOCATION:None
END:VEVENT
BEGIN:VEVENT
DTSTART;TZID=Europe/London:20260306T090000
DTEND;TZID=Europe/London:20260306T110000
DTSTAMP:20260419T213648
CREATED:20251118T112829Z
LAST-MODIFIED:20251121T112828Z
UID:10003742-1772787600-1772794800@www.abingdon.org.uk
SUMMARY:Inside Abingdon (1Y27\, 3Y29)
DESCRIPTION:
URL:https://www.abingdon.org.uk/event/inside-abingdon-1y27-3y29/
LOCATION:The Pavilion
END:VEVENT
BEGIN:VEVENT
DTSTART;TZID=Europe/London:20260307T110000
DTEND;TZID=Europe/London:20260307T140000
DTSTAMP:20260419T213648
CREATED:20251104T110816Z
LAST-MODIFIED:20251121T112828Z
UID:10003465-1772881200-1772892000@www.abingdon.org.uk
SUMMARY:Hockey: Bloxham School - U12 A/B/C\, U13 A/B/C (Away)
DESCRIPTION:
URL:https://www.abingdon.org.uk/event/hockey-bloxham-school-u12-a-b-c-u13-a-b-c-away/
LOCATION:None
END:VEVENT
BEGIN:VEVENT
DTSTART;VALUE=DATE:20260309
DTEND;VALUE=DATE:20260314
DTSTAMP:20260419T213648
CREATED:20251104T110817Z
LAST-MODIFIED:20251121T112829Z
UID:10003466-1773014400-1773446399@www.abingdon.org.uk
SUMMARY:Week B
DESCRIPTION:
URL:https://www.abingdon.org.uk/event/week-b-8/
LOCATION:None
END:VEVENT
BEGIN:VEVENT
DTSTART;TZID=Europe/London:20260310T153000
DTEND;TZID=Europe/London:20260310T183000
DTSTAMP:20260419T213648
CREATED:20251104T110818Z
LAST-MODIFIED:20251121T112829Z
UID:10003467-1773156600-1773167400@www.abingdon.org.uk
SUMMARY:Hockey: St Andrew's Prep School\, Berkshire - U13 A/B (Away)
DESCRIPTION:
URL:https://www.abingdon.org.uk/event/hockey-st-andrews-prep-school-berkshire-u13-a-b-away/
LOCATION:None
END:VEVENT
BEGIN:VEVENT
DTSTART;VALUE=DATE:20260312
DTEND;VALUE=DATE:20260313
DTSTAMP:20260419T213648
CREATED:20251104T110819Z
LAST-MODIFIED:20251121T112829Z
UID:10003468-1773273600-1773359999@www.abingdon.org.uk
SUMMARY:Hockey: Regional Finals - U13 A (Away)
DESCRIPTION:
URL:https://www.abingdon.org.uk/event/hockey-regional-finals-u13-a-away/
LOCATION:None
END:VEVENT
BEGIN:VEVENT
DTSTART;TZID=Europe/London:20260312T093000
DTEND;TZID=Europe/London:20260312T120000
DTSTAMP:20260419T213648
CREATED:20251118T112829Z
LAST-MODIFIED:20251121T112829Z
UID:10003743-1773307800-1773316800@www.abingdon.org.uk
SUMMARY:Discover Abingdon
DESCRIPTION:
URL:https://www.abingdon.org.uk/event/discover-abingdon-3/
LOCATION:Amey Theatre
END:VEVENT
BEGIN:VEVENT
DTSTART;VALUE=DATE:20260314
DTEND;VALUE=DATE:20260315
DTSTAMP:20260419T213648
CREATED:20251104T110820Z
LAST-MODIFIED:20251121T112829Z
UID:10003469-1773446400-1773532799@www.abingdon.org.uk
SUMMARY:Hockey: Bloxham School - U14 A/B/C\, U15 A/B/C\, U18 A/B/C/D\, 5th XI (Away)
DESCRIPTION:
URL:https://www.abingdon.org.uk/event/hockey-bloxham-school-u14-a-b-c-u15-a-b-c-u18-a-b-c-d-5th-xi-away/
LOCATION:None
END:VEVENT
BEGIN:VEVENT
DTSTART;TZID=Europe/London:20260314T180000
DTEND;TZID=Europe/London:20260314T230000
DTSTAMP:20260419T213648
CREATED:20251104T110821Z
LAST-MODIFIED:20251121T112829Z
UID:10003470-1773511200-1773529200@www.abingdon.org.uk
SUMMARY:FASBC Boatclub Dinner
DESCRIPTION:
URL:https://www.abingdon.org.uk/event/fasbc-boatclub-dinner/
LOCATION:The Pavilion
END:VEVENT
BEGIN:VEVENT
DTSTART;VALUE=DATE:20260316
DTEND;VALUE=DATE:20260321
DTSTAMP:20260419T213648
CREATED:20251104T110822Z
LAST-MODIFIED:20251121T112829Z
UID:10003471-1773619200-1774051199@www.abingdon.org.uk
SUMMARY:Week A
DESCRIPTION:
URL:https://www.abingdon.org.uk/event/week-a-8/
LOCATION:None
END:VEVENT
END:VCALENDAR