BEGIN:VCALENDAR
VERSION:2.0
PRODID:-//Abingdon Senior School - ECPv6.15.17.1//NONSGML v1.0//EN
CALSCALE:GREGORIAN
METHOD:PUBLISH
X-ORIGINAL-URL:https://www.abingdon.org.uk
X-WR-CALDESC:Events for Abingdon Senior School
REFRESH-INTERVAL;VALUE=DURATION:PT1H
X-Robots-Tag:noindex
X-PUBLISHED-TTL:PT1H
BEGIN:VTIMEZONE
TZID:Europe/London
BEGIN:DAYLIGHT
TZOFFSETFROM:+0000
TZOFFSETTO:+0100
TZNAME:BST
DTSTART:20250330T010000
END:DAYLIGHT
BEGIN:STANDARD
TZOFFSETFROM:+0100
TZOFFSETTO:+0000
TZNAME:GMT
DTSTART:20251026T010000
END:STANDARD
BEGIN:DAYLIGHT
TZOFFSETFROM:+0000
TZOFFSETTO:+0100
TZNAME:BST
DTSTART:20260329T010000
END:DAYLIGHT
BEGIN:STANDARD
TZOFFSETFROM:+0100
TZOFFSETTO:+0000
TZNAME:GMT
DTSTART:20261025T010000
END:STANDARD
BEGIN:DAYLIGHT
TZOFFSETFROM:+0000
TZOFFSETTO:+0100
TZNAME:BST
DTSTART:20270328T010000
END:DAYLIGHT
BEGIN:STANDARD
TZOFFSETFROM:+0100
TZOFFSETTO:+0000
TZNAME:GMT
DTSTART:20271031T010000
END:STANDARD
END:VTIMEZONE
BEGIN:VTIMEZONE
TZID:UTC
BEGIN:STANDARD
TZOFFSETFROM:+0000
TZOFFSETTO:+0000
TZNAME:UTC
DTSTART:20250101T000000
END:STANDARD
END:VTIMEZONE
BEGIN:VEVENT
DTSTART;TZID=Europe/London:20260117T154500
DTEND;TZID=Europe/London:20260117T184500
DTSTAMP:20260419T133014
CREATED:20251104T110720Z
LAST-MODIFIED:20251121T112826Z
UID:10003409-1768664700-1768675500@www.abingdon.org.uk
SUMMARY:Hockey: Marlborough College - U14 A/B (Away)
DESCRIPTION:
URL:https://www.abingdon.org.uk/event/hockey-marlborough-college-u14-a-b-away/
LOCATION:None
END:VEVENT
BEGIN:VEVENT
DTSTART;TZID=Europe/London:20260117T160000
DTEND;TZID=Europe/London:20260117T190000
DTSTAMP:20260419T133014
CREATED:20251104T110721Z
LAST-MODIFIED:20251121T112826Z
UID:10003410-1768665600-1768676400@www.abingdon.org.uk
SUMMARY:Hockey: Marlborough College - U15 A/B (Home)
DESCRIPTION:
URL:https://www.abingdon.org.uk/event/hockey-marlborough-college-u15-a-b-home/
LOCATION:Tilsley Park
END:VEVENT
BEGIN:VEVENT
DTSTART;VALUE=DATE:20260119
DTEND;VALUE=DATE:20260124
DTSTAMP:20260419T133014
CREATED:20251104T110722Z
LAST-MODIFIED:20251121T112826Z
UID:10003411-1768780800-1769212799@www.abingdon.org.uk
SUMMARY:Week B
DESCRIPTION:
URL:https://www.abingdon.org.uk/event/week-b-5/
LOCATION:None
END:VEVENT
BEGIN:VEVENT
DTSTART;TZID=Europe/London:20260119T090000
DTEND;TZID=Europe/London:20260123T170000
DTSTAMP:20260419T133014
CREATED:20251105T112819Z
LAST-MODIFIED:20251121T112826Z
UID:10003699-1768813200-1769187600@www.abingdon.org.uk
SUMMARY:First Year 2026 Entry Interviews Week
DESCRIPTION:
URL:https://www.abingdon.org.uk/event/first-year-2026-entry-interviews-week/
LOCATION:The Barn\,B116\,B117\,G203\,G206
END:VEVENT
BEGIN:VEVENT
DTSTART;TZID=Europe/London:20260119T180000
DTEND;TZID=Europe/London:20260119T203000
DTSTAMP:20260419T133014
CREATED:20251105T112819Z
LAST-MODIFIED:20251121T112826Z
UID:10003700-1768845600-1768854600@www.abingdon.org.uk
SUMMARY:Towards GCSEs - Parent Information Evening
DESCRIPTION:
URL:https://www.abingdon.org.uk/event/towards-gcses-parent-information-evening/
LOCATION:Charles Maude Room\,Amey Theatre\,G104\,G105\,G106\,G101\,G102\,G108\,G203\,G204\,G205\,G207\,G208\,G209
END:VEVENT
BEGIN:VEVENT
DTSTART;TZID=Europe/London:20260120T183000
DTEND;TZID=Europe/London:20260120T203000
DTSTAMP:20260419T133014
CREATED:20251105T112819Z
LAST-MODIFIED:20251121T112826Z
UID:10003701-1768933800-1768941000@www.abingdon.org.uk
SUMMARY:Duke of Edinburgh's Award - Certificate Presentation Evening
DESCRIPTION:
URL:https://www.abingdon.org.uk/event/duke-of-edinburghs-award-certificate-presentation-evening/
LOCATION:Amey Theatre
END:VEVENT
BEGIN:VEVENT
DTSTART;TZID=Europe/London:20260121T141500
DTEND;TZID=Europe/London:20260121T171500
DTSTAMP:20260419T133014
CREATED:20251104T110723Z
LAST-MODIFIED:20251121T112826Z
UID:10003412-1769004900-1769015700@www.abingdon.org.uk
SUMMARY:Hockey: Dragon School - U12 A\, U13 A (Away)
DESCRIPTION:
URL:https://www.abingdon.org.uk/event/hockey-dragon-school-u12-a-u13-a-away/
LOCATION:None
END:VEVENT
BEGIN:VEVENT
DTSTART;TZID=Europe/London:20260121T150000
DTEND;TZID=Europe/London:20260121T180000
DTSTAMP:20260419T133014
CREATED:20251104T110725Z
LAST-MODIFIED:20251121T112826Z
UID:10003414-1769007600-1769018400@www.abingdon.org.uk
SUMMARY:Hockey: Dragon School - U12 B\, U13 B (Away)
DESCRIPTION:
URL:https://www.abingdon.org.uk/event/hockey-dragon-school-u12-b-u13-b-away/
LOCATION:None
END:VEVENT
BEGIN:VEVENT
DTSTART;TZID=Europe/London:20260121T160000
DTEND;TZID=Europe/London:20260121T190000
DTSTAMP:20260419T133014
CREATED:20251104T110724Z
LAST-MODIFIED:20251121T112826Z
UID:10003413-1769011200-1769022000@www.abingdon.org.uk
SUMMARY:Hockey: County Championships - U16 A (Home)
DESCRIPTION:
URL:https://www.abingdon.org.uk/event/hockey-county-championships-u16-a-away/
LOCATION:Tilsley Park
END:VEVENT
BEGIN:VEVENT
DTSTART;TZID=Europe/London:20260122T150000
DTEND;TZID=Europe/London:20260122T180000
DTSTAMP:20260419T133014
CREATED:20251104T110726Z
LAST-MODIFIED:20251121T112826Z
UID:10003415-1769094000-1769104800@www.abingdon.org.uk
SUMMARY:Hockey: St Edward's School\, Oxford - U14 A (Away)
DESCRIPTION:
URL:https://www.abingdon.org.uk/event/hockey-st-edwards-school-oxford-u14-a-away/
LOCATION:None
END:VEVENT
BEGIN:VEVENT
DTSTART;TZID=Europe/London:20260122T190000
DTEND;TZID=Europe/London:20260122T220000
DTSTAMP:20260419T133014
CREATED:20251104T110727Z
LAST-MODIFIED:20251121T112826Z
UID:10003416-1769108400-1769119200@www.abingdon.org.uk
SUMMARY:NT Live: Hamlet
DESCRIPTION:
URL:https://www.abingdon.org.uk/event/nt-live-hamlet/
LOCATION:Amey Theatre
END:VEVENT
BEGIN:VEVENT
DTSTART;VALUE=DATE:20260124
DTEND;VALUE=DATE:20260125
DTSTAMP:20260419T133014
CREATED:20251104T110728Z
LAST-MODIFIED:20251121T112826Z
UID:10003417-1769212800-1769299199@www.abingdon.org.uk
SUMMARY:Hockey: Magdalen College School - U18 C (Home)
DESCRIPTION:
URL:https://www.abingdon.org.uk/event/hockey-magdalen-college-school-u18-c-home/
LOCATION:None
END:VEVENT
BEGIN:VEVENT
DTSTART;TZID=Europe/London:20260124T120000
DTEND;TZID=Europe/London:20260124T150000
DTSTAMP:20260419T133014
CREATED:20251104T110729Z
LAST-MODIFIED:20251121T112826Z
UID:10003418-1769256000-1769266800@www.abingdon.org.uk
SUMMARY:Hockey: Magdalen College School - U12 C\, U13 C (Away)
DESCRIPTION:
URL:https://www.abingdon.org.uk/event/hockey-magdalen-college-school-u12-c-u13-c-away/
LOCATION:None
END:VEVENT
BEGIN:VEVENT
DTSTART;TZID=Europe/London:20260124T130000
DTEND;TZID=Europe/London:20260124T160000
DTSTAMP:20260419T133014
CREATED:20251104T110730Z
LAST-MODIFIED:20251121T112826Z
UID:10003419-1769259600-1769270400@www.abingdon.org.uk
SUMMARY:Hockey: Magdalen College School - U12 A/B (Away)
DESCRIPTION:
URL:https://www.abingdon.org.uk/event/hockey-magdalen-college-school-u12-a-b-away/
LOCATION:None
END:VEVENT
BEGIN:VEVENT
DTSTART;TZID=Europe/London:20260124T131000
DTEND;TZID=Europe/London:20260124T161000
DTSTAMP:20260419T133014
CREATED:20251104T110731Z
LAST-MODIFIED:20251121T112826Z
UID:10003420-1769260200-1769271000@www.abingdon.org.uk
SUMMARY:Hockey: Magdalen College School - U15 C (Away)
DESCRIPTION:
URL:https://www.abingdon.org.uk/event/hockey-magdalen-college-school-u15-c-away/
LOCATION:None
END:VEVENT
BEGIN:VEVENT
DTSTART;TZID=Europe/London:20260124T131500
DTEND;TZID=Europe/London:20260124T161500
DTSTAMP:20260419T133014
CREATED:20251104T110732Z
LAST-MODIFIED:20251121T112826Z
UID:10003421-1769260500-1769271300@www.abingdon.org.uk
SUMMARY:Hockey: Magdalen College School - U14 A/B (Home)
DESCRIPTION:
URL:https://www.abingdon.org.uk/event/hockey-magdalen-college-school-u14-a-b-home/
LOCATION:Tilsley Park
END:VEVENT
BEGIN:VEVENT
DTSTART;TZID=Europe/London:20260124T140000
DTEND;TZID=Europe/London:20260124T170000
DTSTAMP:20260419T133014
CREATED:20251104T110733Z
LAST-MODIFIED:20251121T112826Z
UID:10003422-1769263200-1769274000@www.abingdon.org.uk
SUMMARY:Hockey: Magdalen College School - U13 A/B (Away)
DESCRIPTION:
URL:https://www.abingdon.org.uk/event/hockey-magdalen-college-school-u13-a-b-away/
LOCATION:None
END:VEVENT
BEGIN:VEVENT
DTSTART;TZID=Europe/London:20260124T141500
DTEND;TZID=Europe/London:20260124T171500
DTSTAMP:20260419T133014
CREATED:20251104T110734Z
LAST-MODIFIED:20251121T112826Z
UID:10003423-1769264100-1769274900@www.abingdon.org.uk
SUMMARY:Hockey: Magdalen College School - U15 B (Away)
DESCRIPTION:
URL:https://www.abingdon.org.uk/event/hockey-magdalen-college-school-u15-b-away/
LOCATION:None
END:VEVENT
BEGIN:VEVENT
DTSTART;TZID=Europe/London:20260124T143000
DTEND;TZID=Europe/London:20260124T173000
DTSTAMP:20260419T133014
CREATED:20251104T110735Z
LAST-MODIFIED:20251121T112826Z
UID:10003424-1769265000-1769275800@www.abingdon.org.uk
SUMMARY:Hockey: Magdalen College School - U18 A/B (Home)
DESCRIPTION:
URL:https://www.abingdon.org.uk/event/hockey-magdalen-college-school-u18-a-b-home/
LOCATION:Tilsley Park
END:VEVENT
BEGIN:VEVENT
DTSTART;TZID=Europe/London:20260124T150000
DTEND;TZID=Europe/London:20260124T180000
DTSTAMP:20260419T133014
CREATED:20251104T110736Z
LAST-MODIFIED:20251121T112826Z
UID:10003425-1769266800-1769277600@www.abingdon.org.uk
SUMMARY:Hockey: Magdalen College School - U14 C (Away)
DESCRIPTION:
URL:https://www.abingdon.org.uk/event/hockey-magdalen-college-school-u14-c-away/
LOCATION:None
END:VEVENT
BEGIN:VEVENT
DTSTART;TZID=Europe/London:20260124T153000
DTEND;TZID=Europe/London:20260124T183000
DTSTAMP:20260419T133014
CREATED:20251104T110737Z
LAST-MODIFIED:20251121T112826Z
UID:10003426-1769268600-1769279400@www.abingdon.org.uk
SUMMARY:Hockey: Magdalen College School - U15 A (Away)
DESCRIPTION:
URL:https://www.abingdon.org.uk/event/hockey-magdalen-college-school-u15-a-away/
LOCATION:None
END:VEVENT
BEGIN:VEVENT
DTSTART;TZID=Europe/London:20260124T160000
DTEND;TZID=Europe/London:20260124T190000
DTSTAMP:20260419T133014
CREATED:20251104T110738Z
LAST-MODIFIED:20251121T112826Z
UID:10003427-1769270400-1769281200@www.abingdon.org.uk
SUMMARY:Hockey: Magdalen College School - U16 A/B (Home)
DESCRIPTION:
URL:https://www.abingdon.org.uk/event/hockey-magdalen-college-school-u16-a-b-home/
LOCATION:Tilsley Park
END:VEVENT
BEGIN:VEVENT
DTSTART;TZID=Europe/London:20260124T190000
DTEND;TZID=Europe/London:20260124T233000
DTSTAMP:20260419T133014
CREATED:20251105T112820Z
LAST-MODIFIED:20251121T112826Z
UID:10003703-1769281200-1769297400@www.abingdon.org.uk
SUMMARY:Burns Night Dinner and Ceilidh
DESCRIPTION:
URL:https://www.abingdon.org.uk/event/burns-night-dinner-and-ceilidh/
LOCATION:The Pavilion
END:VEVENT
BEGIN:VEVENT
DTSTART;VALUE=DATE:20260126
DTEND;VALUE=DATE:20260131
DTSTAMP:20260419T133014
CREATED:20251104T110739Z
LAST-MODIFIED:20251121T112826Z
UID:10003428-1769385600-1769817599@www.abingdon.org.uk
SUMMARY:Week A
DESCRIPTION:
URL:https://www.abingdon.org.uk/event/week-a-5/
LOCATION:None
END:VEVENT
BEGIN:VEVENT
DTSTART;TZID=Europe/London:20260126T150000
DTEND;TZID=Europe/London:20260126T180000
DTSTAMP:20260419T133014
CREATED:20251104T110740Z
LAST-MODIFIED:20251121T112827Z
UID:10003429-1769439600-1769450400@www.abingdon.org.uk
SUMMARY:Hockey: County Championships - U12 A (Home)
DESCRIPTION:
URL:https://www.abingdon.org.uk/event/hockey-county-championships-u12-a-home/
LOCATION:Tilsley Park
END:VEVENT
BEGIN:VEVENT
DTSTART;VALUE=DATE:20260128
DTEND;VALUE=DATE:20260129
DTSTAMP:20260419T133014
CREATED:20251111T112821Z
LAST-MODIFIED:20251121T112827Z
UID:10003716-1769558400-1769644799@www.abingdon.org.uk
SUMMARY:Hockey: Bloxham School - U16 A (Away)
DESCRIPTION:
URL:https://www.abingdon.org.uk/event/hockey-bloxham-school-u16-a-away-2/
LOCATION:None
END:VEVENT
BEGIN:VEVENT
DTSTART;TZID=Europe/London:20260128T093000
DTEND;TZID=Europe/London:20260128T120000
DTSTAMP:20260419T133014
CREATED:20251118T112827Z
LAST-MODIFIED:20251121T112827Z
UID:10003740-1769592600-1769601600@www.abingdon.org.uk
SUMMARY:Discover Abingdon
DESCRIPTION:
URL:https://www.abingdon.org.uk/event/discover-abingdon-2/
LOCATION:None
END:VEVENT
BEGIN:VEVENT
DTSTART;TZID=Europe/London:20260128T180000
DTEND;TZID=Europe/London:20260128T203000
DTSTAMP:20260419T133014
CREATED:20251105T112820Z
LAST-MODIFIED:20251121T112827Z
UID:10003704-1769623200-1769632200@www.abingdon.org.uk
SUMMARY:Fifth Year Parents' Evening On-Line (Main Night)
DESCRIPTION:
URL:https://www.abingdon.org.uk/event/fifth-year-parents-evening-on-line-main-night/
LOCATION:None
END:VEVENT
BEGIN:VEVENT
DTSTART;VALUE=DATE:20260129
DTEND;VALUE=DATE:20260130
DTSTAMP:20260419T133014
CREATED:20251105T112820Z
LAST-MODIFIED:20251121T112827Z
UID:10003705-1769644800-1769731199@www.abingdon.org.uk
SUMMARY:1st and 3rd Year Music Award Auditions
DESCRIPTION:
URL:https://www.abingdon.org.uk/event/1st-and-3rd-year-music-award-auditions/
LOCATION:A103\,A104
END:VEVENT
BEGIN:VEVENT
DTSTART;TZID=Europe/London:20260129T141500
DTEND;TZID=Europe/London:20260129T171500
DTSTAMP:20260419T133014
CREATED:20251104T110741Z
LAST-MODIFIED:20251121T112827Z
UID:10003430-1769696100-1769706900@www.abingdon.org.uk
SUMMARY:Hockey: County Championships - U14 A (Away)
DESCRIPTION:
URL:https://www.abingdon.org.uk/event/hockey-county-championships-u14-a-away/
LOCATION:None
END:VEVENT
END:VCALENDAR