BEGIN:VCALENDAR
VERSION:2.0
PRODID:-//Abingdon Senior School - ECPv6.15.20//NONSGML v1.0//EN
CALSCALE:GREGORIAN
METHOD:PUBLISH
X-WR-CALNAME:Abingdon Senior School
X-ORIGINAL-URL:https://www.abingdon.org.uk
X-WR-CALDESC:Events for Abingdon Senior School
REFRESH-INTERVAL;VALUE=DURATION:PT1H
X-Robots-Tag:noindex
X-PUBLISHED-TTL:PT1H
BEGIN:VTIMEZONE
TZID:UTC
BEGIN:STANDARD
TZOFFSETFROM:+0000
TZOFFSETTO:+0000
TZNAME:UTC
DTSTART:20250101T000000
END:STANDARD
END:VTIMEZONE
BEGIN:VTIMEZONE
TZID:Europe/London
BEGIN:DAYLIGHT
TZOFFSETFROM:+0000
TZOFFSETTO:+0100
TZNAME:BST
DTSTART:20250330T010000
END:DAYLIGHT
BEGIN:STANDARD
TZOFFSETFROM:+0100
TZOFFSETTO:+0000
TZNAME:GMT
DTSTART:20251026T010000
END:STANDARD
BEGIN:DAYLIGHT
TZOFFSETFROM:+0000
TZOFFSETTO:+0100
TZNAME:BST
DTSTART:20260329T010000
END:DAYLIGHT
BEGIN:STANDARD
TZOFFSETFROM:+0100
TZOFFSETTO:+0000
TZNAME:GMT
DTSTART:20261025T010000
END:STANDARD
BEGIN:DAYLIGHT
TZOFFSETFROM:+0000
TZOFFSETTO:+0100
TZNAME:BST
DTSTART:20270328T010000
END:DAYLIGHT
BEGIN:STANDARD
TZOFFSETFROM:+0100
TZOFFSETTO:+0000
TZNAME:GMT
DTSTART:20271031T010000
END:STANDARD
END:VTIMEZONE
BEGIN:VEVENT
DTSTART;VALUE=DATE:20260622
DTEND;VALUE=DATE:20260627
DTSTAMP:20260423T111958
CREATED:20251104T110850Z
LAST-MODIFIED:20251121T112830Z
UID:10003499-1782086400-1782518399@www.abingdon.org.uk
SUMMARY:Week A
DESCRIPTION:
URL:https://www.abingdon.org.uk/event/week-a-22/
LOCATION:None
END:VEVENT
BEGIN:VEVENT
DTSTART;VALUE=DATE:20260624
DTEND;VALUE=DATE:20260625
DTSTAMP:20260423T111958
CREATED:20251104T110851Z
LAST-MODIFIED:20251121T112830Z
UID:10003500-1782259200-1782345599@www.abingdon.org.uk
SUMMARY:Exam Contingency Day
DESCRIPTION:
URL:https://www.abingdon.org.uk/event/exam-contingency-day-2/
LOCATION:None
END:VEVENT
BEGIN:VEVENT
DTSTART;TZID=Europe/London:20260626T183000
DTEND;TZID=Europe/London:20260626T210000
DTSTAMP:20260423T111958
CREATED:20251104T110852Z
LAST-MODIFIED:20251121T112830Z
UID:10003501-1782498600-1782507600@www.abingdon.org.uk
SUMMARY:UCAS 360 Degrees
DESCRIPTION:
URL:https://www.abingdon.org.uk/event/ucas-360-degrees/
LOCATION:Amey Theatre\,Sixth Form Common Room\,Project Room
END:VEVENT
BEGIN:VEVENT
DTSTART;VALUE=DATE:20260629
DTEND;VALUE=DATE:20260704
DTSTAMP:20260423T111958
CREATED:20251104T110855Z
LAST-MODIFIED:20251121T112830Z
UID:10003502-1782691200-1783123199@www.abingdon.org.uk
SUMMARY:Week B
DESCRIPTION:
URL:https://www.abingdon.org.uk/event/week-b-24/
LOCATION:None
END:VEVENT
BEGIN:VEVENT
DTSTART;TZID=Europe/London:20260703T130000
DTEND;TZID=Europe/London:20260703T130000
DTSTAMP:20260423T111958
CREATED:20251104T110856Z
LAST-MODIFIED:20251121T112830Z
UID:10003503-1783083600-1783083600@www.abingdon.org.uk
SUMMARY:Term ends
DESCRIPTION:
URL:https://www.abingdon.org.uk/event/term-ends-4/
LOCATION:None
END:VEVENT
END:VCALENDAR