BEGIN:VCALENDAR
VERSION:2.0
PRODID:-//Abingdon Senior School - ECPv6.15.17.1//NONSGML v1.0//EN
CALSCALE:GREGORIAN
METHOD:PUBLISH
X-ORIGINAL-URL:https://www.abingdon.org.uk
X-WR-CALDESC:Events for Abingdon Senior School
REFRESH-INTERVAL;VALUE=DURATION:PT1H
X-Robots-Tag:noindex
X-PUBLISHED-TTL:PT1H
BEGIN:VTIMEZONE
TZID:Europe/London
BEGIN:DAYLIGHT
TZOFFSETFROM:+0000
TZOFFSETTO:+0100
TZNAME:BST
DTSTART:20250330T010000
END:DAYLIGHT
BEGIN:STANDARD
TZOFFSETFROM:+0100
TZOFFSETTO:+0000
TZNAME:GMT
DTSTART:20251026T010000
END:STANDARD
BEGIN:DAYLIGHT
TZOFFSETFROM:+0000
TZOFFSETTO:+0100
TZNAME:BST
DTSTART:20260329T010000
END:DAYLIGHT
BEGIN:STANDARD
TZOFFSETFROM:+0100
TZOFFSETTO:+0000
TZNAME:GMT
DTSTART:20261025T010000
END:STANDARD
BEGIN:DAYLIGHT
TZOFFSETFROM:+0000
TZOFFSETTO:+0100
TZNAME:BST
DTSTART:20270328T010000
END:DAYLIGHT
BEGIN:STANDARD
TZOFFSETFROM:+0100
TZOFFSETTO:+0000
TZNAME:GMT
DTSTART:20271031T010000
END:STANDARD
END:VTIMEZONE
BEGIN:VTIMEZONE
TZID:UTC
BEGIN:STANDARD
TZOFFSETFROM:+0000
TZOFFSETTO:+0000
TZNAME:UTC
DTSTART:20250101T000000
END:STANDARD
END:VTIMEZONE
BEGIN:VEVENT
DTSTART;TZID=Europe/London:20260124T143000
DTEND;TZID=Europe/London:20260124T173000
DTSTAMP:20260420T063943
CREATED:20251104T110735Z
LAST-MODIFIED:20251121T112826Z
UID:10003424-1769265000-1769275800@www.abingdon.org.uk
SUMMARY:Hockey: Magdalen College School - U18 A/B (Home)
DESCRIPTION:
URL:https://www.abingdon.org.uk/event/hockey-magdalen-college-school-u18-a-b-home/
LOCATION:Tilsley Park
END:VEVENT
BEGIN:VEVENT
DTSTART;TZID=Europe/London:20260124T150000
DTEND;TZID=Europe/London:20260124T180000
DTSTAMP:20260420T063943
CREATED:20251104T110736Z
LAST-MODIFIED:20251121T112826Z
UID:10003425-1769266800-1769277600@www.abingdon.org.uk
SUMMARY:Hockey: Magdalen College School - U14 C (Away)
DESCRIPTION:
URL:https://www.abingdon.org.uk/event/hockey-magdalen-college-school-u14-c-away/
LOCATION:None
END:VEVENT
BEGIN:VEVENT
DTSTART;TZID=Europe/London:20260124T153000
DTEND;TZID=Europe/London:20260124T183000
DTSTAMP:20260420T063943
CREATED:20251104T110737Z
LAST-MODIFIED:20251121T112826Z
UID:10003426-1769268600-1769279400@www.abingdon.org.uk
SUMMARY:Hockey: Magdalen College School - U15 A (Away)
DESCRIPTION:
URL:https://www.abingdon.org.uk/event/hockey-magdalen-college-school-u15-a-away/
LOCATION:None
END:VEVENT
BEGIN:VEVENT
DTSTART;TZID=Europe/London:20260124T160000
DTEND;TZID=Europe/London:20260124T190000
DTSTAMP:20260420T063943
CREATED:20251104T110738Z
LAST-MODIFIED:20251121T112826Z
UID:10003427-1769270400-1769281200@www.abingdon.org.uk
SUMMARY:Hockey: Magdalen College School - U16 A/B (Home)
DESCRIPTION:
URL:https://www.abingdon.org.uk/event/hockey-magdalen-college-school-u16-a-b-home/
LOCATION:Tilsley Park
END:VEVENT
BEGIN:VEVENT
DTSTART;TZID=Europe/London:20260124T190000
DTEND;TZID=Europe/London:20260124T233000
DTSTAMP:20260420T063943
CREATED:20251105T112820Z
LAST-MODIFIED:20251121T112826Z
UID:10003703-1769281200-1769297400@www.abingdon.org.uk
SUMMARY:Burns Night Dinner and Ceilidh
DESCRIPTION:
URL:https://www.abingdon.org.uk/event/burns-night-dinner-and-ceilidh/
LOCATION:The Pavilion
END:VEVENT
BEGIN:VEVENT
DTSTART;VALUE=DATE:20260126
DTEND;VALUE=DATE:20260131
DTSTAMP:20260420T063943
CREATED:20251104T110739Z
LAST-MODIFIED:20251121T112826Z
UID:10003428-1769385600-1769817599@www.abingdon.org.uk
SUMMARY:Week A
DESCRIPTION:
URL:https://www.abingdon.org.uk/event/week-a-5/
LOCATION:None
END:VEVENT
BEGIN:VEVENT
DTSTART;TZID=Europe/London:20260126T150000
DTEND;TZID=Europe/London:20260126T180000
DTSTAMP:20260420T063943
CREATED:20251104T110740Z
LAST-MODIFIED:20251121T112827Z
UID:10003429-1769439600-1769450400@www.abingdon.org.uk
SUMMARY:Hockey: County Championships - U12 A (Home)
DESCRIPTION:
URL:https://www.abingdon.org.uk/event/hockey-county-championships-u12-a-home/
LOCATION:Tilsley Park
END:VEVENT
BEGIN:VEVENT
DTSTART;VALUE=DATE:20260128
DTEND;VALUE=DATE:20260129
DTSTAMP:20260420T063943
CREATED:20251111T112821Z
LAST-MODIFIED:20251121T112827Z
UID:10003716-1769558400-1769644799@www.abingdon.org.uk
SUMMARY:Hockey: Bloxham School - U16 A (Away)
DESCRIPTION:
URL:https://www.abingdon.org.uk/event/hockey-bloxham-school-u16-a-away-2/
LOCATION:None
END:VEVENT
BEGIN:VEVENT
DTSTART;TZID=Europe/London:20260128T093000
DTEND;TZID=Europe/London:20260128T120000
DTSTAMP:20260420T063943
CREATED:20251118T112827Z
LAST-MODIFIED:20251121T112827Z
UID:10003740-1769592600-1769601600@www.abingdon.org.uk
SUMMARY:Discover Abingdon
DESCRIPTION:
URL:https://www.abingdon.org.uk/event/discover-abingdon-2/
LOCATION:None
END:VEVENT
BEGIN:VEVENT
DTSTART;TZID=Europe/London:20260128T180000
DTEND;TZID=Europe/London:20260128T203000
DTSTAMP:20260420T063943
CREATED:20251105T112820Z
LAST-MODIFIED:20251121T112827Z
UID:10003704-1769623200-1769632200@www.abingdon.org.uk
SUMMARY:Fifth Year Parents' Evening On-Line (Main Night)
DESCRIPTION:
URL:https://www.abingdon.org.uk/event/fifth-year-parents-evening-on-line-main-night/
LOCATION:None
END:VEVENT
BEGIN:VEVENT
DTSTART;VALUE=DATE:20260129
DTEND;VALUE=DATE:20260130
DTSTAMP:20260420T063943
CREATED:20251105T112820Z
LAST-MODIFIED:20251121T112827Z
UID:10003705-1769644800-1769731199@www.abingdon.org.uk
SUMMARY:1st and 3rd Year Music Award Auditions
DESCRIPTION:
URL:https://www.abingdon.org.uk/event/1st-and-3rd-year-music-award-auditions/
LOCATION:A103\,A104
END:VEVENT
BEGIN:VEVENT
DTSTART;TZID=Europe/London:20260129T141500
DTEND;TZID=Europe/London:20260129T171500
DTSTAMP:20260420T063943
CREATED:20251104T110741Z
LAST-MODIFIED:20251121T112827Z
UID:10003430-1769696100-1769706900@www.abingdon.org.uk
SUMMARY:Hockey: County Championships - U14 A (Away)
DESCRIPTION:
URL:https://www.abingdon.org.uk/event/hockey-county-championships-u14-a-away/
LOCATION:None
END:VEVENT
BEGIN:VEVENT
DTSTART;TZID=Europe/London:20260129T180000
DTEND;TZID=Europe/London:20260129T203000
DTSTAMP:20260420T063943
CREATED:20251105T112820Z
LAST-MODIFIED:20251121T112827Z
UID:10003706-1769709600-1769718600@www.abingdon.org.uk
SUMMARY:Fifth Parents' Evening On-Line (Overflow Night)
DESCRIPTION:
URL:https://www.abingdon.org.uk/event/fifth-parents-evening-on-line-overflow-night/
LOCATION:None
END:VEVENT
BEGIN:VEVENT
DTSTART;VALUE=DATE:20260131
DTEND;VALUE=DATE:20260201
DTSTAMP:20260420T063943
CREATED:20251104T110742Z
LAST-MODIFIED:20251121T112827Z
UID:10003431-1769817600-1769903999@www.abingdon.org.uk
SUMMARY:Hockey: Eton College - U13 A\, U14 A/B/C\, U16 A/B\, U18 D (Away)
DESCRIPTION:
URL:https://www.abingdon.org.uk/event/hockey-eton-college-u13-a-u14-a-b-c-u16-a-b-u18-d-away/
LOCATION:None
END:VEVENT
BEGIN:VEVENT
DTSTART;TZID=Europe/London:20260131T133000
DTEND;TZID=Europe/London:20260131T163000
DTSTAMP:20260420T063943
CREATED:20251104T110743Z
LAST-MODIFIED:20251121T112827Z
UID:10003432-1769866200-1769877000@www.abingdon.org.uk
SUMMARY:Hockey: Eton College - U15 A/B (Home)
DESCRIPTION:
URL:https://www.abingdon.org.uk/event/hockey-eton-college-u15-a-b-home/
LOCATION:Tilsley Park
END:VEVENT
BEGIN:VEVENT
DTSTART;TZID=Europe/London:20260131T144500
DTEND;TZID=Europe/London:20260131T174500
DTSTAMP:20260420T063943
CREATED:20251104T110744Z
LAST-MODIFIED:20251121T112827Z
UID:10003433-1769870700-1769881500@www.abingdon.org.uk
SUMMARY:Hockey: Eton College - U18 A/B (Home)
DESCRIPTION:
URL:https://www.abingdon.org.uk/event/hockey-eton-college-u18-a-b-home/
LOCATION:Tilsley Park
END:VEVENT
BEGIN:VEVENT
DTSTART;TZID=Europe/London:20260131T160000
DTEND;TZID=Europe/London:20260131T190000
DTSTAMP:20260420T063943
CREATED:20251104T110745Z
LAST-MODIFIED:20251121T112827Z
UID:10003434-1769875200-1769886000@www.abingdon.org.uk
SUMMARY:Hockey: Eton College - U15 C\, U18 C (Home)
DESCRIPTION:
URL:https://www.abingdon.org.uk/event/hockey-eton-college-u15-c-u18-c-home/
LOCATION:Tilsley Park
END:VEVENT
BEGIN:VEVENT
DTSTART;TZID=Europe/London:20260201T090000
DTEND;TZID=Europe/London:20260201T220000
DTSTAMP:20260420T063943
CREATED:20251104T110745Z
LAST-MODIFIED:20251121T112827Z
UID:10003435-1769936400-1769983200@www.abingdon.org.uk
SUMMARY:Senior Production (Abingdon)\, Technical Rehearsal
DESCRIPTION:
URL:https://www.abingdon.org.uk/event/senior-production-abingdon-technical-rehearsal/
LOCATION:Amey Theatre
END:VEVENT
BEGIN:VEVENT
DTSTART;VALUE=DATE:20260202
DTEND;VALUE=DATE:20260205
DTSTAMP:20260420T063943
CREATED:20251104T110746Z
LAST-MODIFIED:20251121T112827Z
UID:10003436-1769990400-1770249599@www.abingdon.org.uk
SUMMARY:U6 Art Mock
DESCRIPTION:
URL:https://www.abingdon.org.uk/event/u6-art-mock/
LOCATION:None
END:VEVENT
BEGIN:VEVENT
DTSTART;VALUE=DATE:20260202
DTEND;VALUE=DATE:20260207
DTSTAMP:20260420T063943
CREATED:20251104T110748Z
LAST-MODIFIED:20251121T112827Z
UID:10003437-1769990400-1770422399@www.abingdon.org.uk
SUMMARY:Week B
DESCRIPTION:
URL:https://www.abingdon.org.uk/event/week-b-6/
LOCATION:None
END:VEVENT
BEGIN:VEVENT
DTSTART;TZID=Europe/London:20260204T140000
DTEND;TZID=Europe/London:20260204T170000
DTSTAMP:20260420T063943
CREATED:20251104T110748Z
LAST-MODIFIED:20251121T112827Z
UID:10003438-1770213600-1770224400@www.abingdon.org.uk
SUMMARY:Hockey: St Hugh's School - U13 C/D (Home)
DESCRIPTION:
URL:https://www.abingdon.org.uk/event/hockey-st-hughs-school-u13-c-d-home/
LOCATION:Tilsley Park
END:VEVENT
BEGIN:VEVENT
DTSTART;TZID=Europe/London:20260204T140000
DTEND;TZID=Europe/London:20260204T170000
DTSTAMP:20260420T063943
CREATED:20251104T110749Z
LAST-MODIFIED:20251121T112827Z
UID:10003439-1770213600-1770224400@www.abingdon.org.uk
SUMMARY:Hockey: St Hugh's School - U12 C (Away)
DESCRIPTION:
URL:https://www.abingdon.org.uk/event/hockey-st-hughs-school-u12-c-away/
LOCATION:None
END:VEVENT
BEGIN:VEVENT
DTSTART;TZID=Europe/London:20260204T144500
DTEND;TZID=Europe/London:20260204T174500
DTSTAMP:20260420T063943
CREATED:20251104T110750Z
LAST-MODIFIED:20251121T112827Z
UID:10003440-1770216300-1770227100@www.abingdon.org.uk
SUMMARY:Hockey: St Hugh's School - U13 A/B (Home)
DESCRIPTION:
URL:https://www.abingdon.org.uk/event/hockey-st-hughs-school-u13-a-b-home/
LOCATION:Tilsley Park
END:VEVENT
BEGIN:VEVENT
DTSTART;TZID=Europe/London:20260204T144500
DTEND;TZID=Europe/London:20260204T174500
DTSTAMP:20260420T063943
CREATED:20251104T110751Z
LAST-MODIFIED:20251121T112827Z
UID:10003441-1770216300-1770227100@www.abingdon.org.uk
SUMMARY:Hockey: St Hugh's School - U12 B (Away)
DESCRIPTION:
URL:https://www.abingdon.org.uk/event/hockey-st-hughs-school-u12-b-away/
LOCATION:None
END:VEVENT
BEGIN:VEVENT
DTSTART;TZID=Europe/London:20260204T153000
DTEND;TZID=Europe/London:20260204T183000
DTSTAMP:20260420T063943
CREATED:20251104T110752Z
LAST-MODIFIED:20251121T112827Z
UID:10003442-1770219000-1770229800@www.abingdon.org.uk
SUMMARY:Hockey: St Hugh's School - U12 A (Away)
DESCRIPTION:
URL:https://www.abingdon.org.uk/event/hockey-st-hughs-school-u12-a-away/
LOCATION:None
END:VEVENT
BEGIN:VEVENT
DTSTART;TZID=Europe/London:20260206T090000
DTEND;TZID=Europe/London:20260206T110000
DTSTAMP:20260420T063943
CREATED:20251105T112819Z
LAST-MODIFIED:20251121T112827Z
UID:10003702-1770368400-1770375600@www.abingdon.org.uk
SUMMARY:Inside Abingdon (1Y27\, 3Y29)
DESCRIPTION:
URL:https://www.abingdon.org.uk/event/inside-abingdon/
LOCATION:The Pavilion
END:VEVENT
BEGIN:VEVENT
DTSTART;TZID=Europe/London:20260207T131500
DTEND;TZID=Europe/London:20260207T161500
DTSTAMP:20260420T063943
CREATED:20251111T112821Z
LAST-MODIFIED:20251121T112827Z
UID:10003717-1770470100-1770480900@www.abingdon.org.uk
SUMMARY:Hockey: Radley College - U14 B (Home)
DESCRIPTION:
URL:https://www.abingdon.org.uk/event/hockey-radley-college-u14-b-home/
LOCATION:Tilsley Park
END:VEVENT
BEGIN:VEVENT
DTSTART;TZID=Europe/London:20260207T131500
DTEND;TZID=Europe/London:20260207T161500
DTSTAMP:20260420T063943
CREATED:20251111T112821Z
LAST-MODIFIED:20251121T112827Z
UID:10003718-1770470100-1770480900@www.abingdon.org.uk
SUMMARY:Hockey: Radley College Boys-U14G - U14 D (Home)
DESCRIPTION:
URL:https://www.abingdon.org.uk/event/hockey-radley-college-boys-u14g-u14-d-home/
LOCATION:Tilsley Park
END:VEVENT
BEGIN:VEVENT
DTSTART;TZID=Europe/London:20260207T133000
DTEND;TZID=Europe/London:20260207T163000
DTSTAMP:20260420T063943
CREATED:20251111T112822Z
LAST-MODIFIED:20251121T112827Z
UID:10003719-1770471000-1770481800@www.abingdon.org.uk
SUMMARY:Hockey: Radley College - U18 C (Away)
DESCRIPTION:
URL:https://www.abingdon.org.uk/event/hockey-radley-college-u18-c-away/
LOCATION:None
END:VEVENT
BEGIN:VEVENT
DTSTART;TZID=Europe/London:20260207T143000
DTEND;TZID=Europe/London:20260207T173000
DTSTAMP:20260420T063943
CREATED:20251111T112822Z
LAST-MODIFIED:20251121T112827Z
UID:10003720-1770474600-1770485400@www.abingdon.org.uk
SUMMARY:Hockey: Radley College - U15 B/C\, U18 D (Away)
DESCRIPTION:
URL:https://www.abingdon.org.uk/event/hockey-radley-college-u15-b-c-u18-d-away/
LOCATION:None
END:VEVENT
END:VCALENDAR