BEGIN:VCALENDAR
VERSION:2.0
PRODID:-//Abingdon Prep School - ECPv6.15.20//NONSGML v1.0//EN
CALSCALE:GREGORIAN
METHOD:PUBLISH
X-ORIGINAL-URL:https://www.abingdon.org.uk/prep
X-WR-CALDESC:Events for Abingdon Prep School
REFRESH-INTERVAL;VALUE=DURATION:PT1H
X-Robots-Tag:noindex
X-PUBLISHED-TTL:PT1H
BEGIN:VTIMEZONE
TZID:UTC
BEGIN:STANDARD
TZOFFSETFROM:+0000
TZOFFSETTO:+0000
TZNAME:UTC
DTSTART:20250101T000000
END:STANDARD
END:VTIMEZONE
BEGIN:VTIMEZONE
TZID:Europe/London
BEGIN:DAYLIGHT
TZOFFSETFROM:+0000
TZOFFSETTO:+0100
TZNAME:BST
DTSTART:20250330T010000
END:DAYLIGHT
BEGIN:STANDARD
TZOFFSETFROM:+0100
TZOFFSETTO:+0000
TZNAME:GMT
DTSTART:20251026T010000
END:STANDARD
BEGIN:DAYLIGHT
TZOFFSETFROM:+0000
TZOFFSETTO:+0100
TZNAME:BST
DTSTART:20260329T010000
END:DAYLIGHT
BEGIN:STANDARD
TZOFFSETFROM:+0100
TZOFFSETTO:+0000
TZNAME:GMT
DTSTART:20261025T010000
END:STANDARD
BEGIN:DAYLIGHT
TZOFFSETFROM:+0000
TZOFFSETTO:+0100
TZNAME:BST
DTSTART:20270328T010000
END:DAYLIGHT
BEGIN:STANDARD
TZOFFSETFROM:+0100
TZOFFSETTO:+0000
TZNAME:GMT
DTSTART:20271031T010000
END:STANDARD
END:VTIMEZONE
BEGIN:VEVENT
DTSTART;VALUE=DATE:20260523
DTEND;VALUE=DATE:20260601
DTSTAMP:20260425T112301
CREATED:20260207T160153Z
LAST-MODIFIED:20260424T160405Z
UID:55762-1779494400-1780271999@www.abingdon.org.uk
SUMMARY:Half Term
DESCRIPTION:
URL:https://www.abingdon.org.uk/prep/event/half-term/
END:VEVENT
BEGIN:VEVENT
DTSTART;TZID=Europe/London:20260531T140000
DTEND;TZID=Europe/London:20260531T160000
DTSTAMP:20260425T112301
CREATED:20260306T160107Z
LAST-MODIFIED:20260424T160405Z
UID:56009-1780236000-1780243200@www.abingdon.org.uk
SUMMARY:Charity sponsored swim
DESCRIPTION:
URL:https://www.abingdon.org.uk/prep/event/charity-sponsored-swim/
END:VEVENT
END:VCALENDAR