BEGIN:VCALENDAR
VERSION:2.0
PRODID:-//Abingdon Prep School - ECPv6.15.20//NONSGML v1.0//EN
CALSCALE:GREGORIAN
METHOD:PUBLISH
X-WR-CALNAME:Abingdon Prep School
X-ORIGINAL-URL:https://www.abingdon.org.uk/prep
X-WR-CALDESC:Events for Abingdon Prep School
REFRESH-INTERVAL;VALUE=DURATION:PT1H
X-Robots-Tag:noindex
X-PUBLISHED-TTL:PT1H
BEGIN:VTIMEZONE
TZID:Europe/London
BEGIN:DAYLIGHT
TZOFFSETFROM:+0000
TZOFFSETTO:+0100
TZNAME:BST
DTSTART:20250330T010000
END:DAYLIGHT
BEGIN:STANDARD
TZOFFSETFROM:+0100
TZOFFSETTO:+0000
TZNAME:GMT
DTSTART:20251026T010000
END:STANDARD
BEGIN:DAYLIGHT
TZOFFSETFROM:+0000
TZOFFSETTO:+0100
TZNAME:BST
DTSTART:20260329T010000
END:DAYLIGHT
BEGIN:STANDARD
TZOFFSETFROM:+0100
TZOFFSETTO:+0000
TZNAME:GMT
DTSTART:20261025T010000
END:STANDARD
BEGIN:DAYLIGHT
TZOFFSETFROM:+0000
TZOFFSETTO:+0100
TZNAME:BST
DTSTART:20270328T010000
END:DAYLIGHT
BEGIN:STANDARD
TZOFFSETFROM:+0100
TZOFFSETTO:+0000
TZNAME:GMT
DTSTART:20271031T010000
END:STANDARD
END:VTIMEZONE
BEGIN:VTIMEZONE
TZID:UTC
BEGIN:STANDARD
TZOFFSETFROM:+0000
TZOFFSETTO:+0000
TZNAME:UTC
DTSTART:20250101T000000
END:STANDARD
END:VTIMEZONE
BEGIN:VEVENT
DTSTART;TZID=Europe/London:20260703T120000
DTEND;TZID=Europe/London:20260703T120000
DTSTAMP:20260425T170648
CREATED:20260207T160153Z
LAST-MODIFIED:20260425T160110Z
UID:55764-1783080000-1783080000@www.abingdon.org.uk
SUMMARY:Term ends
DESCRIPTION:
URL:https://www.abingdon.org.uk/prep/event/term-ends/
END:VEVENT
BEGIN:VEVENT
DTSTART;TZID=Europe/London:20260703T101500
DTEND;TZID=Europe/London:20260703T114500
DTSTAMP:20260425T170648
CREATED:20260306T160109Z
LAST-MODIFIED:20260425T160110Z
UID:56052-1783073700-1783079100@www.abingdon.org.uk
SUMMARY:Year R-8 Prize Giving
DESCRIPTION:
URL:https://www.abingdon.org.uk/prep/event/year-r-8-prize-giving/
END:VEVENT
BEGIN:VEVENT
DTSTART;TZID=Europe/London:20260702T131500
DTEND;TZID=Europe/London:20260702T154500
DTSTAMP:20260425T170648
CREATED:20260306T160109Z
LAST-MODIFIED:20260425T160110Z
UID:56051-1782998100-1783007100@www.abingdon.org.uk
SUMMARY:Y8 Ridgeway Walk
DESCRIPTION:
URL:https://www.abingdon.org.uk/prep/event/y8-ridgeway-walk/
END:VEVENT
BEGIN:VEVENT
DTSTART;VALUE=DATE:20260702
DTEND;VALUE=DATE:20260703
DTSTAMP:20260425T170648
CREATED:20260302T160107Z
LAST-MODIFIED:20260425T160110Z
UID:55935-1782950400-1783036799@www.abingdon.org.uk
SUMMARY:Summer lunch barbecue
DESCRIPTION:
URL:https://www.abingdon.org.uk/prep/event/summer-lunch-barbecue/
END:VEVENT
BEGIN:VEVENT
DTSTART;TZID=Europe/London:20260701T140000
DTEND;TZID=Europe/London:20260701T170000
DTSTAMP:20260425T170648
CREATED:20260306T160109Z
LAST-MODIFIED:20260425T160110Z
UID:56050-1782914400-1782925200@www.abingdon.org.uk
SUMMARY:Cricket v Cothill. 1st-5th\, U11A-C\, U10A-C.
DESCRIPTION:
URL:https://www.abingdon.org.uk/prep/event/cricket-v-cothill-1st-5th-u11a-c-u10a-c/
END:VEVENT
BEGIN:VEVENT
DTSTART;TZID=Europe/London:20260701T090000
DTEND;TZID=Europe/London:20260701T100000
DTSTAMP:20260425T170648
CREATED:20260415T160127Z
LAST-MODIFIED:20260425T160110Z
UID:56443-1782896400-1782900000@www.abingdon.org.uk
SUMMARY:Sports team photos Y3-8 tbc
DESCRIPTION:
URL:https://www.abingdon.org.uk/prep/event/sports-team-photos-y3-8-tbc/
END:VEVENT
BEGIN:VEVENT
DTSTART;TZID=Europe/London:20260630T160000
DTEND;TZID=Europe/London:20260630T170000
DTSTAMP:20260425T170648
CREATED:20260307T160107Z
LAST-MODIFIED:20260425T160110Z
UID:56121-1782835200-1782838800@www.abingdon.org.uk
SUMMARY:8R Crest Awards
DESCRIPTION:
URL:https://www.abingdon.org.uk/prep/event/8r-crest-awards/
END:VEVENT
BEGIN:VEVENT
DTSTART;TZID=Europe/London:20260630T083000
DTEND;TZID=Europe/London:20260630T160000
DTSTAMP:20260425T170648
CREATED:20260409T160216Z
LAST-MODIFIED:20260425T160110Z
UID:56407-1782808200-1782835200@www.abingdon.org.uk
SUMMARY:Year 8 trip to Lords
DESCRIPTION:
URL:https://www.abingdon.org.uk/prep/event/year-8-trip-to-lords/
END:VEVENT
BEGIN:VEVENT
DTSTART;TZID=Europe/London:20260629T131500
DTEND;TZID=Europe/London:20260629T154500
DTSTAMP:20260425T170648
CREATED:20260306T160109Z
LAST-MODIFIED:20260425T160110Z
UID:56048-1782738900-1782747900@www.abingdon.org.uk
SUMMARY:Y8 Masterclasses at Abingdon School
DESCRIPTION:
URL:https://www.abingdon.org.uk/prep/event/y8-masterclasses-at-abingdon-school/
END:VEVENT
BEGIN:VEVENT
DTSTART;TZID=Europe/London:20260629T091500
DTEND;TZID=Europe/London:20260629T122000
DTSTAMP:20260425T170648
CREATED:20260306T160109Z
LAST-MODIFIED:20260425T160110Z
UID:56047-1782724500-1782735600@www.abingdon.org.uk
SUMMARY:Year 8 Taster Morning at Abingdon School
DESCRIPTION:
URL:https://www.abingdon.org.uk/prep/event/year-8-taster-morning-at-abingdon-school/
END:VEVENT
BEGIN:VEVENT
DTSTART;TZID=Europe/London:20260629T090000
DTEND;TZID=Europe/London:20260629T130000
DTSTAMP:20260425T170648
CREATED:20260306T160108Z
LAST-MODIFIED:20260425T160110Z
UID:56046-1782723600-1782738000@www.abingdon.org.uk
SUMMARY:Move up morning for existing and new pupils
DESCRIPTION:
URL:https://www.abingdon.org.uk/prep/event/move-up-morning-for-existing-and-new-pupils/
END:VEVENT
BEGIN:VEVENT
DTSTART;TZID=Europe/London:20260626T150000
DTEND;TZID=Europe/London:20260626T180000
DTSTAMP:20260425T170648
CREATED:20260306T160108Z
LAST-MODIFIED:20260425T160110Z
UID:56045-1782486000-1782496800@www.abingdon.org.uk
SUMMARY:Year 3-6 Poetry recital competition
DESCRIPTION:
URL:https://www.abingdon.org.uk/prep/event/year-3-6-poetry-recital-competition/
END:VEVENT
BEGIN:VEVENT
DTSTART;TZID=Europe/London:20260626T143000
DTEND;TZID=Europe/London:20260626T160000
DTSTAMP:20260425T170648
CREATED:20260306T160108Z
LAST-MODIFIED:20260425T160110Z
UID:56044-1782484200-1782489600@www.abingdon.org.uk
SUMMARY:Pre-Prep Summer Concert & Teddy Bear's picnic
DESCRIPTION:
URL:https://www.abingdon.org.uk/prep/event/pre-prep-summer-concert-teddy-bears-picnic/
END:VEVENT
BEGIN:VEVENT
DTSTART;TZID=Europe/London:20260626T093000
DTEND;TZID=Europe/London:20260626T110000
DTSTAMP:20260425T170648
CREATED:20260306T160108Z
LAST-MODIFIED:20260425T160110Z
UID:56043-1782466200-1782471600@www.abingdon.org.uk
SUMMARY:Inside Abingdon Prep  tour for prospective Y3-6 parents
DESCRIPTION:
URL:https://www.abingdon.org.uk/prep/event/inside-abingdon-prep-tour-for-prospective-y3-6-parents/
END:VEVENT
BEGIN:VEVENT
DTSTART;TZID=Europe/London:20260625T090000
DTEND;TZID=Europe/London:20260625T153000
DTSTAMP:20260425T170648
CREATED:20260306T160108Z
LAST-MODIFIED:20260425T160110Z
UID:56042-1782378000-1782401400@www.abingdon.org.uk
SUMMARY:Reception and Year 1 Wheels Day (APS carpark)
DESCRIPTION:
URL:https://www.abingdon.org.uk/prep/event/reception-and-year-1-wheels-day-aps-carpark/
END:VEVENT
BEGIN:VEVENT
DTSTART;VALUE=DATE:20260625
DTEND;VALUE=DATE:20260626
DTSTAMP:20260425T170648
CREATED:20260121T160124Z
LAST-MODIFIED:20260425T160110Z
UID:54850-1782345600-1782431999@www.abingdon.org.uk
SUMMARY:Y2 Forest School trip to The Earth Trust\, Wittenham Clumps
DESCRIPTION:
URL:https://www.abingdon.org.uk/prep/event/y2-forest-school-trip/
END:VEVENT
BEGIN:VEVENT
DTSTART;TZID=Europe/London:20260624T140000
DTEND;TZID=Europe/London:20260624T170000
DTSTAMP:20260425T170648
CREATED:20260306T160108Z
LAST-MODIFIED:20260425T160110Z
UID:56041-1782309600-1782320400@www.abingdon.org.uk
SUMMARY:Cricket v St Hugh's. Colts A-E 14:00 (A)
DESCRIPTION:
URL:https://www.abingdon.org.uk/prep/event/cricket-v-st-hughs-colts-a-e-1400-a/
END:VEVENT
BEGIN:VEVENT
DTSTART;TZID=Europe/London:20260623T143000
DTEND;TZID=Europe/London:20260623T170000
DTSTAMP:20260425T170648
CREATED:20260306T160107Z
LAST-MODIFIED:20260425T160110Z
UID:56021-1782225000-1782234000@www.abingdon.org.uk
SUMMARY:U8&U9 Cricket v MCS
DESCRIPTION:
URL:https://www.abingdon.org.uk/prep/event/u8u9-cricket-v-mcs/
END:VEVENT
BEGIN:VEVENT
DTSTART;TZID=Europe/London:20260623T090000
DTEND;TZID=Europe/London:20260623T130000
DTSTAMP:20260425T170648
CREATED:20260306T160108Z
LAST-MODIFIED:20260425T160110Z
UID:56040-1782205200-1782219600@www.abingdon.org.uk
SUMMARY:Year 3 trip to Ashmolean museum
DESCRIPTION:
URL:https://www.abingdon.org.uk/prep/event/year-3-trip-to-ashmolean-museum/
END:VEVENT
BEGIN:VEVENT
DTSTART;VALUE=DATE:20260622
DTEND;VALUE=DATE:20260627
DTSTAMP:20260425T170648
CREATED:20260306T160108Z
LAST-MODIFIED:20260425T160110Z
UID:56039-1782086400-1782518399@www.abingdon.org.uk
SUMMARY:Year 7&8 Residential Trip to Rockley watersports centre
DESCRIPTION:
URL:https://www.abingdon.org.uk/prep/event/year-78-residential-trip-to-rockley-watersports-centre/
END:VEVENT
BEGIN:VEVENT
DTSTART;TZID=Europe/London:20260620T083000
DTEND;TZID=Europe/London:20260620T130000
DTSTAMP:20260425T170648
CREATED:20251125T160109Z
LAST-MODIFIED:20260425T160110Z
UID:54372-1781944200-1781960400@www.abingdon.org.uk
SUMMARY:Year 3-8 Sports Day at Tilsley Park
DESCRIPTION:
URL:https://www.abingdon.org.uk/prep/event/year-3-8-sports-day-at-tilsley-park/
END:VEVENT
BEGIN:VEVENT
DTSTART;TZID=Europe/London:20260619T163000
DTEND;TZID=Europe/London:20260619T173000
DTSTAMP:20260425T170648
CREATED:20260306T160108Z
LAST-MODIFIED:20260425T160110Z
UID:56038-1781886600-1781890200@www.abingdon.org.uk
SUMMARY:JPA Summer Picnic
DESCRIPTION:
URL:https://www.abingdon.org.uk/prep/event/jpa-summer-picnic/
END:VEVENT
BEGIN:VEVENT
DTSTART;VALUE=DATE:20260619
DTEND;VALUE=DATE:20260620
DTSTAMP:20260425T170648
CREATED:20260306T160108Z
LAST-MODIFIED:20260425T160110Z
UID:56037-1781827200-1781913599@www.abingdon.org.uk
SUMMARY:Year 8 Trip to Dalton Barracks
DESCRIPTION:
URL:https://www.abingdon.org.uk/prep/event/year-8-trip-to-dalton-barracks/
END:VEVENT
BEGIN:VEVENT
DTSTART;TZID=Europe/London:20260618T145000
DTEND;TZID=Europe/London:20260618T160000
DTSTAMP:20260425T170648
CREATED:20260306T160108Z
LAST-MODIFIED:20260425T160110Z
UID:56036-1781794200-1781798400@www.abingdon.org.uk
SUMMARY:Y7 Leadership Event
DESCRIPTION:
URL:https://www.abingdon.org.uk/prep/event/y7-leadership-event/
END:VEVENT
BEGIN:VEVENT
DTSTART;TZID=Europe/London:20260618T143000
DTEND;TZID=Europe/London:20260618T153000
DTSTAMP:20260425T170648
CREATED:20260420T160118Z
LAST-MODIFIED:20260425T160110Z
UID:56464-1781793000-1781796600@www.abingdon.org.uk
SUMMARY:Dr. Hugh Price Classics presentation to Y8 (am)
DESCRIPTION:
URL:https://www.abingdon.org.uk/prep/event/dr-hugh-price-classics-presentation-to-y8-am/
END:VEVENT
BEGIN:VEVENT
DTSTART;TZID=Europe/London:20260618T133000
DTEND;TZID=Europe/London:20260618T143000
DTSTAMP:20260425T170648
CREATED:20260306T160108Z
LAST-MODIFIED:20260425T160110Z
UID:56035-1781789400-1781793000@www.abingdon.org.uk
SUMMARY:U8 Cricket v St Hugh's 15:00 (H)
DESCRIPTION:
URL:https://www.abingdon.org.uk/prep/event/u8-cricket-v-st-hughs-1500-h/
END:VEVENT
BEGIN:VEVENT
DTSTART;TZID=Europe/London:20260618T083000
DTEND;TZID=Europe/London:20260618T160000
DTSTAMP:20260425T170648
CREATED:20260324T160107Z
LAST-MODIFIED:20260425T160110Z
UID:56226-1781771400-1781798400@www.abingdon.org.uk
SUMMARY:Filming at ASP
DESCRIPTION:
URL:https://www.abingdon.org.uk/prep/event/filming-at-asp/
END:VEVENT
BEGIN:VEVENT
DTSTART;TZID=Europe/London:20260618T083000
DTEND;TZID=Europe/London:20260618T170000
DTSTAMP:20260425T170648
CREATED:20260306T160108Z
LAST-MODIFIED:20260425T160110Z
UID:56034-1781771400-1781802000@www.abingdon.org.uk
SUMMARY:Mercia Athletics Championship
DESCRIPTION:
URL:https://www.abingdon.org.uk/prep/event/mercia-athletics-championship/
END:VEVENT
BEGIN:VEVENT
DTSTART;VALUE=DATE:20260618
DTEND;VALUE=DATE:20260620
DTSTAMP:20260425T170648
CREATED:20260121T160124Z
LAST-MODIFIED:20260425T160110Z
UID:54851-1781740800-1781913599@www.abingdon.org.uk
SUMMARY:Y4 Overnight camp out at APS
DESCRIPTION:
URL:https://www.abingdon.org.uk/prep/event/y4-overnight-camp-out-at-aps/
END:VEVENT
BEGIN:VEVENT
DTSTART;TZID=Europe/London:20260617T140000
DTEND;TZID=Europe/London:20260617T170000
DTSTAMP:20260425T170648
CREATED:20260306T160108Z
LAST-MODIFIED:20260425T160110Z
UID:56033-1781704800-1781715600@www.abingdon.org.uk
SUMMARY:Cricket v Bruern Abbey. 1st - 3rd (H)\, Colts A-C(A)
DESCRIPTION:
URL:https://www.abingdon.org.uk/prep/event/cricket-v-bruern-abbey-1st-3rd-h-colts-a-ca/
END:VEVENT
END:VCALENDAR